{"text_format":"1","workbook":"xlsx","n_sheets":2,"sheets":["3JahresZiel","Zuteilung Hirsche"],"not_rendered":{"charts":0,"images":0,"macros":0,"external_links":0,"defined_names":0,"comments":0,"pivot_tables":0},"unopened":[],"bounds":{"document_bytes":16777216,"sheet_cells":100000,"rows_first":2000,"rows_last":500,"rows_between":2000,"halvings":0,"cell_chars":16384,"cell_head_chars":4096},"cells_cut":0,"cells_raw":0,"read":"whole","date_system":"1900"}

{"sheet":"3JahresZiel","index":0,"n_rows":58,"n_cols":17,"rows_kept":58,"cut":false,"hidden":false,"merged":[[56,5,56,6],[56,7,56,8],[57,5,57,8],[5,2,5,14],[12,2,12,3],[13,2,13,3],[14,2,14,3],[53,5,53,6],[53,7,53,8]]}
[]
[null,null,"Rotwildplanung - Zielbestand",null,"Bezirk",null,null,null,null,"Hegebezirk"]
[null,null,"FUST TIROL - Entscheidungsunterstützungssystem; Version 2021-12-07"]
[]
[]
[null,null,"Rotwild    "]
[]
[null,null,null,null,"Hirsch",null,null,null,null,"Tiere"]
[null,null,null,null,"Hirschkälber","Schmalspieser","Junghirsche 2-4 Jahre","Mittelhirsche 5-9 Jahre","Erntehirsche","Wildkälber","Schmal-u. 2jährige Tiere","Tiere 3jährig u. älter","Wildstand Winter","Wildstand Sommer","Abschuß"]
[null,null,null,null,"Kälb.",1,"2-4","5-9","10+","Kälb.","1-2","2-4",null,null,null,null,"Violette Teile sind händisch "]
[null,null,"ideale Bestandesstruktur in % lt. Richtlinie",null,10,7,13,14,6,10,13,27,1,null,null,null,"aus JAFAT einzutragen"]
[null,null,"idealer Bestandesstruktur in St. lt. Richtlinie",null,{"$f":"$M$12*(E11/100)","v":0},0,0,0,0,0,0,0,{"$f":"M15","v":0},null,null,null,"Blaue Teile sind Ergebnis"]
[null,null,"Winterstand laut Zählung",null,null,null,null,null,null,null,null,null,{"$f":"SUM(E13:L13)","v":0},null,null,null,"d. Plausibiliserungsteils "]
[null,null,"Winterstand lt. Summe Abschusspläne",null,null,null,null,null,null,null,null,null,{"$f":"SUM(E14:L14)","v":0},null,null,null,"Orange Teile sind Ergebnis"]
[null,null,"berechneter Winterstand lt VO TJG/JAFAT",null,null,null,null,null,null,null,null,null,{"$f":"SUM(E15:L15)","v":0},null,null,null,"d. Jagdjahresvorbesprechung "]
[]
[null,null,null,"Gemeinsam interpretierter Winterstand ",null,null,null,null,null,null,null,null,{"$f":"SUM(E17:L17)","v":0},null,null,null,"Vorkommensfläche ha "]
[null,null,null,"Berechnete Übergänge Vorjahr minus",{"$f":"E17","v":0},{"$f":"F17","v":0},{"$f":"G17/3","v":0},{"$f":"H17/5","v":0},null,{"$f":"J17","v":0},{"$f":"K17/2","v":0}]
[null,null,"Planung","Berechnete Übergänge Vorjahr plus",null,{"$f":"E18","v":0},{"$f":"F18","v":0},{"$f":"G18","v":0},{"$f":"H18","v":0},null,{"$f":"J18","v":0},{"$f":"K18","v":0}]
[null,null,"1. Jahr",0.8,{"$f":"($K$17+$L$17)*$D$20/2","v":0},null,null,null,null,{"$f":"($K$17+$L$17)*$D$20/2","v":0},null,null,null,{"$f":"E20+J20","v":0}]
[null,null,null,"Sommerstand gerechnet",{"$f":"E17-E18+E20","v":0},{"$f":"F17-F18+F19","v":0},{"$f":"G17-G18+G19","v":0},{"$f":"H17-H18+H19","v":0},{"$f":"I17-I18+I19","v":0},{"$f":"J17-J18+J20","v":0},{"$f":"K17-K18+K19","v":0},{"$f":"L17-L18+L19","v":0},null,{"$f":"SUM(E21:L21)","v":0}]
[null,null,null,"Abschuss - gerechnet",{"$f":"E21-E23","v":0},0,0,0,0,0,0,0,null,null,{"$f":"SUM(E22:L22)","v":0},null,"Wilddichte Stück pro 100 ha"]
[null,null,null,"gewünscht Bestand u. Struktur Winter nächstes Jahr",{"$f":"$M$23*(E11/100)","v":0},0,0,0,0,0,0,{"$f":"$M$23*L11/100","v":0},{"$f":"M17*0.9","v":0},null,null,null,{"$f":"N21/(Q18/100)","v":{"$error":"#DIV/0!"}}]
[null,null,null,"Abgang (Abschuss +  Fallw.)",{"$f":"IF(E22<0,0,E22)","v":0},{"$f":"IF(F22<0,0,F22)","v":0},0,0,0,0,0,0,null,null,{"$f":"SUM(E24:L24)","v":0}]
[null,null,null,"daher Übergang ins Folgejahr",{"$f":"E23+E22-E24","v":0},0,0,0,0,0,0,0,{"$f":"SUM(E25:L25)","v":0}]
[]
[]
[null,null,null,"Winterstand ist",{"$f":"E25","v":0},0,0,0,0,0,0,0,{"$f":"SUM(E28:L28)","v":0}]
[null,null,null,"Übergänge minus",{"$f":"E28","v":0},{"$f":"F28","v":0},{"$f":"G28/3","v":0},{"$f":"H28/5","v":0},null,{"$f":"J28","v":0},{"$f":"K28/2","v":0}]
[null,null,"Planung","Übergänge plus",null,{"$f":"E29","v":0},{"$f":"F29","v":0},{"$f":"G29","v":0},{"$f":"H29","v":0},null,{"$f":"J29","v":0},{"$f":"K29","v":0}]
[null,null,"2. Jahr",0.8,{"$f":"(K28+L28)*D31/2","v":0},null,null,null,null,{"$f":"(K28+L28)*D31/2","v":0},null,null,null,{"$f":"E31+J31","v":0}]
[null,null,null,"Sommerstand gerechnet",{"$f":"E28-E29+E31","v":0},{"$f":"F28-F29+F30","v":0},{"$f":"G28-G29+G30","v":0},{"$f":"H28-H29+H30","v":0},{"$f":"I28-I29+I30","v":0},{"$f":"J28-J29+J31","v":0},{"$f":"K28-K29+K30","v":0},{"$f":"L28-L29+L30","v":0},null,{"$f":"SUM(E32:L32)","v":0}]
[null,null,null,"Abschuss - gerechnet",{"$f":"E32-E34","v":0},0,0,0,0,0,0,0,null,null,{"$f":"SUM(E33:L33)","v":0},null,"Wilddichte Stück pro 100 ha"]
[null,null,null,"idealer Winterstand nächstes Jahr",{"$f":"$M$34*(E11/100)","v":0},0,0,0,0,0,0,{"$f":"$M$34*L11/100","v":0},{"$f":"M23*0.95","v":0},null,null,null,{"$f":"N32/(Q18/100)","v":{"$error":"#DIV/0!"}}]
[null,null,null,"tats. Abschuß u. Fallw.",{"$f":"IF(E33<0,0,E33)","v":0},{"$f":"IF(F33<0,0,F33)","v":0},0,0,0,0,0,0,null,null,{"$f":"SUM(E35:L35)","v":0}]
[null,null,null,"daher Übergang",{"$f":"E34+E33-E35","v":0},0,0,0,0,0,0,0,{"$f":"SUM(E36:L36)","v":0}]
[]
[]
[null,null,null,"Winterstand ist",{"$f":"E36","v":0},0,0,0,0,0,0,0,{"$f":"SUM(E39:L39)","v":0}]
[null,null,null,"Übergänge minus",{"$f":"E39","v":0},{"$f":"F39","v":0},{"$f":"G39/3","v":0},{"$f":"H39/5","v":0},null,{"$f":"J39","v":0},{"$f":"K39/2","v":0}]
[null,null,"Planung","Übergänge plus",null,{"$f":"E40","v":0},{"$f":"F40","v":0},{"$f":"G40","v":0},{"$f":"H40","v":0},null,{"$f":"J40","v":0},{"$f":"K40","v":0}]
[null,null,"3. Jahr",0.8,{"$f":"(K39+L39)*D42/2","v":0},null,null,null,null,{"$f":"(K39+L39)*D42/2","v":0},null,null,null,{"$f":"E42+J42","v":0}]
[null,null,null,"Sommerstand gerechnet",{"$f":"E39-E40+E42","v":0},{"$f":"F39-F40+F41","v":0},{"$f":"G39-G40+G41","v":0},{"$f":"H39-H40+H41","v":0},{"$f":"I39-I40+I41","v":0},{"$f":"J39-J40+J42","v":0},{"$f":"K39-K40+K41","v":0},{"$f":"L39-L40+L41","v":0},null,{"$f":"SUM(E43:L43)","v":0}]
[null,null,null,"Abschuss - gerechnet",{"$f":"E43-E45","v":0},0,0,0,0,0,0,0,null,null,{"$f":"SUM(E44:L44)","v":0},null,"Wilddichte Stück pro 100 ha"]
[null,null,null,"idealer Winterstand nächstes Jahr",{"$f":"$M$45*(E11/100)","v":0},0,0,0,0,0,0,{"$f":"$M$45*L11/100","v":0},{"$f":"M34*0.95","v":0},null,null,null,{"$f":"N43/(Q18/100)","v":{"$error":"#DIV/0!"}}]
[null,null,null,"tats. Abschuß u. Fallw.",{"$f":"IF(E44<0,0,E44)","v":0},{"$f":"IF(F44<0,0,F44)","v":0},0,0,0,0,0,0,null,null,{"$f":"SUM(E46:L46)","v":0}]
[null,null,null,"daher Übergang",{"$f":"E45+E44-E46","v":0},0,0,0,0,0,0,0,{"$f":"SUM(E47:L47)","v":0}]
[]
[null,null,"3 - Jahres - Abschuss",null,{"$f":"E46+E35+E24","v":0},{"$f":"F46+F35+F24","v":0},0,0,0,0,0,0,null,{"$f":"SUM(E49:M49)","v":0},{"$f":"O46+O35+O24","v":0}]
[null,null,"Mindestzuwachs laut Rückrechnung",null,null,null,null,null,null,null,null,null,null,null,{"$f":"(K17+L17+K28+L28+K39+L39)*0.8","v":0}]
[]
[null,null,"Für die Freigabe","eines",null,"Spießer","H III","H II","H I",null,"müssen in"]
[null,null,"Revieren mit Fütterung","oder  mit Fütterungsbeitrag",null,{"$f":"($J$49+$K$49+$L$49+$E$49)/F49","v":{"$error":"#DIV/0!"}},{"$f":"($J$49+$K$49+$L$49+$E$49)/G49","v":{"$error":"#DIV/0!"}},{"$f":"($J$49+$K$49+$L$49+$E$49)/H49","v":{"$error":"#DIV/0!"}},{"$f":"($J$49+$K$49+$L$49+$E$49)/I49","v":{"$error":"#DIV/0!"}},null,"Stück Kahlwild freigegeben werden.",null,null,null,{"$f":"(E49+J49+K49+L49)/(F49+G49+H49+I49)","v":{"$error":"#DIV/0!"}},"Stück Kahlwild müssen grundsätzlich "]
[null,null,null,null,null,{"$f":"($E$49+$J$49+$K$49+$L$49)/($F$49+$G$49)","v":{"$error":"#DIV/0!"}},null,{"$f":"($E$49+$J$49+$K$49+$L$49)/($H$49+$I$49)","v":{"$error":"#DIV/0!"}},null,null,null,null,null,null,null,"pro Trophäenträger erlegt werden - "]
[null,null,null,null,null,null,null,null,null,null,null,null,null,null,null,"damit das Dreijahresziel "]
[null,null,"Revieren ohne Fütterung",20,null,{"$f":"F53/100*(100+$D$56)","v":{"$error":"#DIV/0!"}},{"$f":"G53/100*(100+$D$56)","v":{"$error":"#DIV/0!"}},{"$f":"H53/100*(100+$D$56)","v":{"$error":"#DIV/0!"}},{"$f":"I53/100*(100+$D$56)","v":{"$error":"#DIV/0!"}},null,"Stück Kahlwild freigegeben werden.",null,null,null,null,"erreicht werden kann"]
[null,null,null,null,null,{"$f":"($E$49+$J$49+$K$49+$L$49)/($F$49+$G$49)+($E$49+$J$49+$K$49+$L$49)/($F$49+$G$49)*$D$56/100","v":{"$error":"#DIV/0!"}},null,{"$f":"($E$49+$J$49+$K$49+$L$49)/($H$49+$I$49)+($E$49+$J$49+$K$49+$L$49)/($H$49+$I$49)*$D$56/100","v":{"$error":"#DIV/0!"}}]
[null,null,null,null,null,{"$f":"O53*(100+D56)/100","v":{"$error":"#DIV/0!"}}]

{"sheet":"Zuteilung Hirsche","index":1,"n_rows":38,"n_cols":6,"rows_kept":38,"cut":false,"hidden":false,"merged":[[4,1,4,2],[4,3,4,4]]}
["Hirschfreigabe bei entsprechender Kahlwildfreigabe/erfüllung"]
[]
["Um das Dreijahresziel zu erreichen müssen im Hegebez.",null,{"$f":"'3JahresZiel'!L2","v":0},"ges. in 3 Jahren",{"$f":"'3JahresZiel'!O49","v":0},"Stück Rotwild abgehen!"]
[]
["Grundsätzlich wird","mit Fütterung",null,"ohne Fütterung"]
["pro ",{"$f":"'3JahresZiel'!O53","v":{"$error":"#DIV/0!"}},"Stück",{"$f":"'3JahresZiel'!F58","v":{"$error":"#DIV/0!"}},"Stück","Kahlwild (Tiere + Kälber)"]
["EIN  Hirsch der Klasse III freigegeben!"]
[]
["Übersteigt die Summe des Kahlwildes",{"$f":"'3JahresZiel'!H54","v":{"$error":"#DIV/0!"}},"Stück",{"$f":"'3JahresZiel'!H57","v":{"$error":"#DIV/0!"}},"Stück","dann ist der folgende"]
["Hirsch aus der Klasse II/I freizugeben! Dies gilt fortlaufend bei Wiedererreichen dieses Wertes."]
[]
["Hilfstabelle:"]
["Anzahl Hirsche","Hirsch Klasse","Anzahl Kahlwild","Hirsch Klasse","Anzahl Kahlwild"]
[1,{"$f":"IF(C14-($B$9*(COUNTIF($B$13:B13,\"II/I\")+1))>0,\"II/I\",\"III\")","v":{"$error":"#DIV/0!"}},{"$f":"ROUNDUP($B$6*A14,0)","v":{"$error":"#DIV/0!"}},{"$f":"IF(E14-($D$9*(COUNTIF($D$13:D13,\"II/I\")+1))>0,\"II/I\",\"III\")","v":{"$error":"#DIV/0!"}},{"$f":"ROUNDUP($D$6*A14,0)","v":{"$error":"#DIV/0!"}}]
[2,{"$f":"IF(C15-($B$9*(COUNTIF($B$13:B14,\"II/I\")+1))>0,\"II/I\",\"III\")","v":{"$error":"#DIV/0!"}},{"$f":"ROUNDUP($B$6*A15,0)","v":{"$error":"#DIV/0!"}},{"$f":"IF(E15-($D$9*(COUNTIF($D$13:D14,\"II/I\")+1))>0,\"II/I\",\"III\")","v":{"$error":"#DIV/0!"}},{"$error":"#DIV/0!"}]
[3,{"$f":"IF(C16-($B$9*(COUNTIF($B$13:B15,\"II/I\")+1))>0,\"II/I\",\"III\")","v":{"$error":"#DIV/0!"}},{"$error":"#DIV/0!"},{"$f":"IF(E16-($D$9*(COUNTIF($D$13:D15,\"II/I\")+1))>0,\"II/I\",\"III\")","v":{"$error":"#DIV/0!"}},{"$error":"#DIV/0!"}]
[4,{"$f":"IF(C17-($B$9*(COUNTIF($B$13:B16,\"II/I\")+1))>0,\"II/I\",\"III\")","v":{"$error":"#DIV/0!"}},{"$error":"#DIV/0!"},{"$f":"IF(E17-($D$9*(COUNTIF($D$13:D16,\"II/I\")+1))>0,\"II/I\",\"III\")","v":{"$error":"#DIV/0!"}},{"$error":"#DIV/0!"}]
[5,{"$f":"IF(C18-($B$9*(COUNTIF($B$13:B17,\"II/I\")+1))>0,\"II/I\",\"III\")","v":{"$error":"#DIV/0!"}},{"$error":"#DIV/0!"},{"$f":"IF(E18-($D$9*(COUNTIF($D$13:D17,\"II/I\")+1))>0,\"II/I\",\"III\")","v":{"$error":"#DIV/0!"}},{"$error":"#DIV/0!"}]
[6,{"$f":"IF(C19-($B$9*(COUNTIF($B$13:B18,\"II/I\")+1))>0,\"II/I\",\"III\")","v":{"$error":"#DIV/0!"}},{"$error":"#DIV/0!"},{"$f":"IF(E19-($D$9*(COUNTIF($D$13:D18,\"II/I\")+1))>0,\"II/I\",\"III\")","v":{"$error":"#DIV/0!"}},{"$error":"#DIV/0!"}]
[7,{"$f":"IF(C20-($B$9*(COUNTIF($B$13:B19,\"II/I\")+1))>0,\"II/I\",\"III\")","v":{"$error":"#DIV/0!"}},{"$error":"#DIV/0!"},{"$f":"IF(E20-($D$9*(COUNTIF($D$13:D19,\"II/I\")+1))>0,\"II/I\",\"III\")","v":{"$error":"#DIV/0!"}},{"$error":"#DIV/0!"}]
[8,{"$f":"IF(C21-($B$9*(COUNTIF($B$13:B20,\"II/I\")+1))>0,\"II/I\",\"III\")","v":{"$error":"#DIV/0!"}},{"$error":"#DIV/0!"},{"$f":"IF(E21-($D$9*(COUNTIF($D$13:D20,\"II/I\")+1))>0,\"II/I\",\"III\")","v":{"$error":"#DIV/0!"}},{"$error":"#DIV/0!"}]
[9,{"$f":"IF(C22-($B$9*(COUNTIF($B$13:B21,\"II/I\")+1))>0,\"II/I\",\"III\")","v":{"$error":"#DIV/0!"}},{"$error":"#DIV/0!"},{"$f":"IF(E22-($D$9*(COUNTIF($D$13:D21,\"II/I\")+1))>0,\"II/I\",\"III\")","v":{"$error":"#DIV/0!"}},{"$error":"#DIV/0!"}]
[10,{"$f":"IF(C23-($B$9*(COUNTIF($B$13:B22,\"II/I\")+1))>0,\"II/I\",\"III\")","v":{"$error":"#DIV/0!"}},{"$error":"#DIV/0!"},{"$f":"IF(E23-($D$9*(COUNTIF($D$13:D22,\"II/I\")+1))>0,\"II/I\",\"III\")","v":{"$error":"#DIV/0!"}},{"$error":"#DIV/0!"}]
[11,{"$f":"IF(C24-($B$9*(COUNTIF($B$13:B23,\"II/I\")+1))>0,\"II/I\",\"III\")","v":{"$error":"#DIV/0!"}},{"$error":"#DIV/0!"},{"$f":"IF(E24-($D$9*(COUNTIF($D$13:D23,\"II/I\")+1))>0,\"II/I\",\"III\")","v":{"$error":"#DIV/0!"}},{"$error":"#DIV/0!"}]
[12,{"$f":"IF(C25-($B$9*(COUNTIF($B$13:B24,\"II/I\")+1))>0,\"II/I\",\"III\")","v":{"$error":"#DIV/0!"}},{"$error":"#DIV/0!"},{"$f":"IF(E25-($D$9*(COUNTIF($D$13:D24,\"II/I\")+1))>0,\"II/I\",\"III\")","v":{"$error":"#DIV/0!"}},{"$error":"#DIV/0!"}]
[13,{"$f":"IF(C26-($B$9*(COUNTIF($B$13:B25,\"II/I\")+1))>0,\"II/I\",\"III\")","v":{"$error":"#DIV/0!"}},{"$error":"#DIV/0!"},{"$f":"IF(E26-($D$9*(COUNTIF($D$13:D25,\"II/I\")+1))>0,\"II/I\",\"III\")","v":{"$error":"#DIV/0!"}},{"$error":"#DIV/0!"}]
[14,{"$f":"IF(C27-($B$9*(COUNTIF($B$13:B26,\"II/I\")+1))>0,\"II/I\",\"III\")","v":{"$error":"#DIV/0!"}},{"$error":"#DIV/0!"},{"$f":"IF(E27-($D$9*(COUNTIF($D$13:D26,\"II/I\")+1))>0,\"II/I\",\"III\")","v":{"$error":"#DIV/0!"}},{"$error":"#DIV/0!"}]
[15,{"$f":"IF(C28-($B$9*(COUNTIF($B$13:B27,\"II/I\")+1))>0,\"II/I\",\"III\")","v":{"$error":"#DIV/0!"}},{"$error":"#DIV/0!"},{"$f":"IF(E28-($D$9*(COUNTIF($D$13:D27,\"II/I\")+1))>0,\"II/I\",\"III\")","v":{"$error":"#DIV/0!"}},{"$error":"#DIV/0!"}]
[16,{"$f":"IF(C29-($B$9*(COUNTIF($B$13:B28,\"II/I\")+1))>0,\"II/I\",\"III\")","v":{"$error":"#DIV/0!"}},{"$error":"#DIV/0!"},{"$f":"IF(E29-($D$9*(COUNTIF($D$13:D28,\"II/I\")+1))>0,\"II/I\",\"III\")","v":{"$error":"#DIV/0!"}},{"$error":"#DIV/0!"}]
[17,{"$f":"IF(C30-($B$9*(COUNTIF($B$13:B29,\"II/I\")+1))>0,\"II/I\",\"III\")","v":{"$error":"#DIV/0!"}},{"$error":"#DIV/0!"},{"$f":"IF(E30-($D$9*(COUNTIF($D$13:D29,\"II/I\")+1))>0,\"II/I\",\"III\")","v":{"$error":"#DIV/0!"}},{"$error":"#DIV/0!"}]
[18,{"$f":"IF(C31-($B$9*(COUNTIF($B$13:B30,\"II/I\")+1))>0,\"II/I\",\"III\")","v":{"$error":"#DIV/0!"}},{"$error":"#DIV/0!"},{"$f":"IF(E31-($D$9*(COUNTIF($D$13:D30,\"II/I\")+1))>0,\"II/I\",\"III\")","v":{"$error":"#DIV/0!"}},{"$error":"#DIV/0!"}]
[19,{"$f":"IF(C32-($B$9*(COUNTIF($B$13:B31,\"II/I\")+1))>0,\"II/I\",\"III\")","v":{"$error":"#DIV/0!"}},{"$error":"#DIV/0!"},{"$f":"IF(E32-($D$9*(COUNTIF($D$13:D31,\"II/I\")+1))>0,\"II/I\",\"III\")","v":{"$error":"#DIV/0!"}},{"$error":"#DIV/0!"}]
[20,{"$f":"IF(C33-($B$9*(COUNTIF($B$13:B32,\"II/I\")+1))>0,\"II/I\",\"III\")","v":{"$error":"#DIV/0!"}},{"$error":"#DIV/0!"},{"$f":"IF(E33-($D$9*(COUNTIF($D$13:D32,\"II/I\")+1))>0,\"II/I\",\"III\")","v":{"$error":"#DIV/0!"}},{"$error":"#DIV/0!"}]
[21,{"$f":"IF(C34-($B$9*(COUNTIF($B$13:B33,\"II/I\")+1))>0,\"II/I\",\"III\")","v":{"$error":"#DIV/0!"}},{"$error":"#DIV/0!"},{"$f":"IF(E34-($D$9*(COUNTIF($D$13:D33,\"II/I\")+1))>0,\"II/I\",\"III\")","v":{"$error":"#DIV/0!"}},{"$error":"#DIV/0!"}]
[22,{"$f":"IF(C35-($B$9*(COUNTIF($B$13:B34,\"II/I\")+1))>0,\"II/I\",\"III\")","v":{"$error":"#DIV/0!"}},{"$error":"#DIV/0!"},{"$f":"IF(E35-($D$9*(COUNTIF($D$13:D34,\"II/I\")+1))>0,\"II/I\",\"III\")","v":{"$error":"#DIV/0!"}},{"$error":"#DIV/0!"}]
[23,{"$f":"IF(C36-($B$9*(COUNTIF($B$13:B35,\"II/I\")+1))>0,\"II/I\",\"III\")","v":{"$error":"#DIV/0!"}},{"$error":"#DIV/0!"},{"$f":"IF(E36-($D$9*(COUNTIF($D$13:D35,\"II/I\")+1))>0,\"II/I\",\"III\")","v":{"$error":"#DIV/0!"}},{"$error":"#DIV/0!"}]
[24,{"$f":"IF(C37-($B$9*(COUNTIF($B$13:B36,\"II/I\")+1))>0,\"II/I\",\"III\")","v":{"$error":"#DIV/0!"}},{"$error":"#DIV/0!"},{"$f":"IF(E37-($D$9*(COUNTIF($D$13:D36,\"II/I\")+1))>0,\"II/I\",\"III\")","v":{"$error":"#DIV/0!"}},{"$error":"#DIV/0!"}]
[25,{"$f":"IF(C38-($B$9*(COUNTIF($B$13:B37,\"II/I\")+1))>0,\"II/I\",\"III\")","v":{"$error":"#DIV/0!"}},{"$error":"#DIV/0!"},{"$f":"IF(E38-($D$9*(COUNTIF($D$13:D37,\"II/I\")+1))>0,\"II/I\",\"III\")","v":{"$error":"#DIV/0!"}},{"$error":"#DIV/0!"}]